BEGIN:VCALENDAR
VERSION:2.0
PRODID:-//People&#039;s Voice - ECPv6.9.0//NONSGML v1.0//EN
CALSCALE:GREGORIAN
METHOD:PUBLISH
X-WR-CALNAME:People&#039;s Voice
X-ORIGINAL-URL:https://pvonline.ca
X-WR-CALDESC:Events for People&#039;s Voice
REFRESH-INTERVAL;VALUE=DURATION:PT1H
X-Robots-Tag:noindex
X-PUBLISHED-TTL:PT1H
BEGIN:VTIMEZONE
TZID:America/Vancouver
BEGIN:DAYLIGHT
TZOFFSETFROM:-0800
TZOFFSETTO:-0700
TZNAME:PDT
DTSTART:20250309T100000
END:DAYLIGHT
BEGIN:STANDARD
TZOFFSETFROM:-0700
TZOFFSETTO:-0800
TZNAME:PST
DTSTART:20251102T090000
END:STANDARD
END:VTIMEZONE
BEGIN:VEVENT
DTSTART;TZID=America/Vancouver:20250126T120000
DTEND;TZID=America/Vancouver:20250126T130000
DTSTAMP:20260421T081138
CREATED:20250115T193719Z
LAST-MODIFIED:20250115T193719Z
UID:7032-1737892800-1737896400@pvonline.ca
SUMMARY:Vancouver - Cuba solidarity rally
DESCRIPTION:Puentes de Amor rally – join the Canadian Cuban Friendship Association (CCFA) Vancouver to call for an end to the US blockade of Cuba.
URL:https://pvonline.ca/event/vancouver-cuba-solidarity-rally/
END:VEVENT
END:VCALENDAR