BEGIN:VCALENDAR
VERSION:2.0
PRODID:-//People&#039;s Voice - ECPv6.9.0//NONSGML v1.0//EN
CALSCALE:GREGORIAN
METHOD:PUBLISH
X-WR-CALNAME:People&#039;s Voice
X-ORIGINAL-URL:https://pvonline.ca
X-WR-CALDESC:Events for People&#039;s Voice
REFRESH-INTERVAL;VALUE=DURATION:PT1H
X-Robots-Tag:noindex
X-PUBLISHED-TTL:PT1H
BEGIN:VTIMEZONE
TZID:America/Toronto
BEGIN:DAYLIGHT
TZOFFSETFROM:-0500
TZOFFSETTO:-0400
TZNAME:EDT
DTSTART:20250309T070000
END:DAYLIGHT
BEGIN:STANDARD
TZOFFSETFROM:-0400
TZOFFSETTO:-0500
TZNAME:EST
DTSTART:20251102T060000
END:STANDARD
END:VTIMEZONE
BEGIN:VEVENT
DTSTART;TZID=America/Toronto:20250117T163000
DTEND;TZID=America/Toronto:20250117T183000
DTSTAMP:20260422T201540
CREATED:20250115T195530Z
LAST-MODIFIED:20250115T195530Z
UID:7045-1737131400-1737138600@pvonline.ca
SUMMARY:Ottawa - Cuba solidarity picket
DESCRIPTION:Join Ottawa Cuba Connections at the US Embassy\, for their monthly action calling for an end to the US blockade and the return of the Guantanamo military base to Cuba.
URL:https://pvonline.ca/event/ottawa-cuba-solidarity-picket/
LOCATION:US Embassy\, 490 Sussex Dr\, Ottawa\, ON\, K1N 5P3
END:VEVENT
END:VCALENDAR